BEGIN:VCALENDAR
VERSION:2.0
PRODID:-//Verdello - ECPv6.15.20//NONSGML v1.0//EN
CALSCALE:GREGORIAN
METHOD:PUBLISH
X-WR-CALNAME:Verdello
X-ORIGINAL-URL:https://www.verdellowy.com
X-WR-CALDESC:Events for Verdello
REFRESH-INTERVAL;VALUE=DURATION:PT1H
X-Robots-Tag:noindex
X-PUBLISHED-TTL:PT1H
BEGIN:VTIMEZONE
TZID:America/Denver
BEGIN:DAYLIGHT
TZOFFSETFROM:-0700
TZOFFSETTO:-0600
TZNAME:MDT
DTSTART:20250309T090000
END:DAYLIGHT
BEGIN:STANDARD
TZOFFSETFROM:-0600
TZOFFSETTO:-0700
TZNAME:MST
DTSTART:20251102T080000
END:STANDARD
BEGIN:DAYLIGHT
TZOFFSETFROM:-0700
TZOFFSETTO:-0600
TZNAME:MDT
DTSTART:20260308T090000
END:DAYLIGHT
BEGIN:STANDARD
TZOFFSETFROM:-0600
TZOFFSETTO:-0700
TZNAME:MST
DTSTART:20261101T080000
END:STANDARD
BEGIN:DAYLIGHT
TZOFFSETFROM:-0700
TZOFFSETTO:-0600
TZNAME:MDT
DTSTART:20270314T090000
END:DAYLIGHT
BEGIN:STANDARD
TZOFFSETFROM:-0600
TZOFFSETTO:-0700
TZNAME:MST
DTSTART:20271107T080000
END:STANDARD
END:VTIMEZONE
BEGIN:VEVENT
DTSTART;TZID=America/Denver:20260324T173000
DTEND;TZID=America/Denver:20260324T190000
DTSTAMP:20260422T203913
CREATED:20260312T025336Z
LAST-MODIFIED:20260312T025336Z
UID:10000063-1774373400-1774378800@www.verdellowy.com
SUMMARY:An Evening with Wine Maker Linn Scott of Sparkman Winery
DESCRIPTION:Taste the wine\, ask the questions\, learn how Sparkman winery of Woodenville\, Washington was created. \nSeats are limited\, grab your spot now! \n$35 pp | Must be 21+ to attend \n 
URL:https://www.verdellowy.com/event/an-evening-with-wine-maker-linn-scott-of-sparkman-winery/
LOCATION:Verdello Kitchen\, 23 Grinnell Plaza\, Sheridan\, WY\, 82801\, United States
CATEGORIES:General
ATTACH;FMTTYPE=image/jpeg:https://www.verdellowy.com/wp-content/uploads/2022/11/AdobeStock_73315210-scaled-1.jpeg
END:VEVENT
END:VCALENDAR