BEGIN:VCALENDAR
VERSION:2.0
PRODID:-//Verdello - ECPv6.15.20//NONSGML v1.0//EN
CALSCALE:GREGORIAN
METHOD:PUBLISH
X-WR-CALNAME:Verdello
X-ORIGINAL-URL:https://www.verdellowy.com
X-WR-CALDESC:Events for Verdello
REFRESH-INTERVAL;VALUE=DURATION:PT1H
X-Robots-Tag:noindex
X-PUBLISHED-TTL:PT1H
BEGIN:VTIMEZONE
TZID:America/Denver
BEGIN:DAYLIGHT
TZOFFSETFROM:-0700
TZOFFSETTO:-0600
TZNAME:MDT
DTSTART:20250309T090000
END:DAYLIGHT
BEGIN:STANDARD
TZOFFSETFROM:-0600
TZOFFSETTO:-0700
TZNAME:MST
DTSTART:20251102T080000
END:STANDARD
BEGIN:DAYLIGHT
TZOFFSETFROM:-0700
TZOFFSETTO:-0600
TZNAME:MDT
DTSTART:20260308T090000
END:DAYLIGHT
BEGIN:STANDARD
TZOFFSETFROM:-0600
TZOFFSETTO:-0700
TZNAME:MST
DTSTART:20261101T080000
END:STANDARD
BEGIN:DAYLIGHT
TZOFFSETFROM:-0700
TZOFFSETTO:-0600
TZNAME:MDT
DTSTART:20270314T090000
END:DAYLIGHT
BEGIN:STANDARD
TZOFFSETFROM:-0600
TZOFFSETTO:-0700
TZNAME:MST
DTSTART:20271107T080000
END:STANDARD
END:VTIMEZONE
BEGIN:VEVENT
DTSTART;TZID=America/Denver:20260326T173000
DTEND;TZID=America/Denver:20260326T190000
DTSTAMP:20260422T174249
CREATED:20260311T225210Z
LAST-MODIFIED:20260312T023812Z
UID:10000061-1774546200-1774551600@www.verdellowy.com
SUMMARY:Spring Wine Tasting
DESCRIPTION:Sip & Socialize: An Evening of Wine and Unwinding Join us for a fun evening of\, tasting\, great\, conversation\, and\, laughter. We will sample 6 wines\, ranging from crisp whites to bold reds\, with no expertise required—just a love for good\, wine\, and\, friends. \nThis will be a great event to sample our new selections and pick the perfect wine for your Easter celebration! \nMust be 21+ to attend \n 
URL:https://www.verdellowy.com/event/spring-wine-tasting/
LOCATION:Verdello Kitchen\, 23 Grinnell Plaza\, Sheridan\, WY\, 82801\, United States
CATEGORIES:General
ATTACH;FMTTYPE=image/jpeg:https://www.verdellowy.com/wp-content/uploads/2023/03/AdobeStock_194582038-scaled-1.jpeg
END:VEVENT
END:VCALENDAR