BEGIN:VCALENDAR
VERSION:2.0
PRODID:-//Verdello - ECPv6.15.20//NONSGML v1.0//EN
CALSCALE:GREGORIAN
METHOD:PUBLISH
X-ORIGINAL-URL:https://www.verdellowy.com
X-WR-CALDESC:Events for Verdello
REFRESH-INTERVAL;VALUE=DURATION:PT1H
X-Robots-Tag:noindex
X-PUBLISHED-TTL:PT1H
BEGIN:VTIMEZONE
TZID:America/Denver
BEGIN:DAYLIGHT
TZOFFSETFROM:-0700
TZOFFSETTO:-0600
TZNAME:MDT
DTSTART:20250309T090000
END:DAYLIGHT
BEGIN:STANDARD
TZOFFSETFROM:-0600
TZOFFSETTO:-0700
TZNAME:MST
DTSTART:20251102T080000
END:STANDARD
BEGIN:DAYLIGHT
TZOFFSETFROM:-0700
TZOFFSETTO:-0600
TZNAME:MDT
DTSTART:20260308T090000
END:DAYLIGHT
BEGIN:STANDARD
TZOFFSETFROM:-0600
TZOFFSETTO:-0700
TZNAME:MST
DTSTART:20261101T080000
END:STANDARD
BEGIN:DAYLIGHT
TZOFFSETFROM:-0700
TZOFFSETTO:-0600
TZNAME:MDT
DTSTART:20270314T090000
END:DAYLIGHT
BEGIN:STANDARD
TZOFFSETFROM:-0600
TZOFFSETTO:-0700
TZNAME:MST
DTSTART:20271107T080000
END:STANDARD
END:VTIMEZONE
BEGIN:VEVENT
DTSTART;TZID=America/Denver:20260425T140000
DTEND;TZID=America/Denver:20260425T170000
DTSTAMP:20260422T163936
CREATED:20260407T184755Z
LAST-MODIFIED:20260407T184755Z
UID:10000064-1777125600-1777136400@www.verdellowy.com
SUMMARY:Street Tacos
DESCRIPTION:Just in time to plan your Cinco de Mayo celebration! Learn the secrets of the perfect street taco in this hands on workshop! Master the art of making fresh corn tortillas\, shredded beef and chicken Al Pastor fillings\, creamy street corn and strawberry crema.  All levels of experience welcome! \nChef: Jami Laya \nSeats Available: 12
URL:https://www.verdellowy.com/event/street-tacos/
LOCATION:Verdello Kitchen\, 23 Grinnell Plaza\, Sheridan\, WY\, 82801\, United States
CATEGORIES:General
ATTACH;FMTTYPE=image/jpeg:https://www.verdellowy.com/wp-content/uploads/2023/02/AdobeStock_313507099-scaled-1.jpeg
END:VEVENT
BEGIN:VEVENT
DTSTART;TZID=America/Denver:20260430T160000
DTEND;TZID=America/Denver:20260430T193000
DTSTAMP:20260422T163936
CREATED:20260407T192401Z
LAST-MODIFIED:20260407T192638Z
UID:10000065-1777564800-1777577400@www.verdellowy.com
SUMMARY:Wine Tasting
DESCRIPTION:Our March wine tasting was such a hit\, we thought it should be a regular event! Open house style tasting! This fun casual tasting\, is the perfect event to attend with friends and explore numerous new additions to Verdello as well as varietals you are not familiar with.   The evening will include wine and light hors d’ oeuvres. \n 
URL:https://www.verdellowy.com/event/wine-tasting/
LOCATION:Verdello Kitchen\, 23 Grinnell Plaza\, Sheridan\, WY\, 82801\, United States
CATEGORIES:General
ATTACH;FMTTYPE=image/jpeg:https://www.verdellowy.com/wp-content/uploads/2022/08/AdobeStock_306887048-scaled-1.jpeg
END:VEVENT
END:VCALENDAR