BEGIN:VCALENDAR
VERSION:2.0
PRODID:-//Verdello - ECPv6.15.20//NONSGML v1.0//EN
CALSCALE:GREGORIAN
METHOD:PUBLISH
X-WR-CALNAME:Verdello
X-ORIGINAL-URL:https://www.verdellowy.com
X-WR-CALDESC:Events for Verdello
REFRESH-INTERVAL;VALUE=DURATION:PT1H
X-Robots-Tag:noindex
X-PUBLISHED-TTL:PT1H
BEGIN:VTIMEZONE
TZID:America/Denver
BEGIN:DAYLIGHT
TZOFFSETFROM:-0700
TZOFFSETTO:-0600
TZNAME:MDT
DTSTART:20230312T090000
END:DAYLIGHT
BEGIN:STANDARD
TZOFFSETFROM:-0600
TZOFFSETTO:-0700
TZNAME:MST
DTSTART:20231105T080000
END:STANDARD
BEGIN:DAYLIGHT
TZOFFSETFROM:-0700
TZOFFSETTO:-0600
TZNAME:MDT
DTSTART:20240310T090000
END:DAYLIGHT
BEGIN:STANDARD
TZOFFSETFROM:-0600
TZOFFSETTO:-0700
TZNAME:MST
DTSTART:20241103T080000
END:STANDARD
BEGIN:DAYLIGHT
TZOFFSETFROM:-0700
TZOFFSETTO:-0600
TZNAME:MDT
DTSTART:20250309T090000
END:DAYLIGHT
BEGIN:STANDARD
TZOFFSETFROM:-0600
TZOFFSETTO:-0700
TZNAME:MST
DTSTART:20251102T080000
END:STANDARD
BEGIN:DAYLIGHT
TZOFFSETFROM:-0700
TZOFFSETTO:-0600
TZNAME:MDT
DTSTART:20260308T090000
END:DAYLIGHT
BEGIN:STANDARD
TZOFFSETFROM:-0600
TZOFFSETTO:-0700
TZNAME:MST
DTSTART:20261101T080000
END:STANDARD
END:VTIMEZONE
BEGIN:VEVENT
DTSTART;TZID=America/Denver:20251025T173000
DTEND;TZID=America/Denver:20251025T200000
DTSTAMP:20260424T131140
CREATED:20250919T184048Z
LAST-MODIFIED:20250919T185900Z
UID:10000052-1761413400-1761422400@www.verdellowy.com
SUMMARY:Curry Fusion
DESCRIPTION:Take your tastebuds on an adventure with classic warming spices\, while indulging in dishes using our Curry Infused Olive oil\, Ginger White Balsamic Vinegar\, Mango Masala Rub\, and Cumin Spice Sea Salt. Learn how to bring warm\, aromatic\, and wholesome flavors to your everyday foods.  This nourishing blend of flavors is sure to warm your food\, body and soul.  \n\nWhiskey Ginger Cider Cocktail\nCurry Lime Cashews\nCreamy Chicken Curry\nMango Cucumber Salad with Candied Ginger\nCoconut Curry Bread Pudding\n\nHands-on Class\nAges\, 21+
URL:https://www.verdellowy.com/event/curry-fusion-2/
CATEGORIES:General
ATTACH;FMTTYPE=image/jpeg:https://www.verdellowy.com/wp-content/uploads/2021/08/AdobeStock_242743136-scaled-1.jpeg
END:VEVENT
BEGIN:VEVENT
DTSTART;TZID=America/Denver:20250614T173000
DTEND;TZID=America/Denver:20250614T193000
DTSTAMP:20260424T131140
CREATED:20250501T025308Z
LAST-MODIFIED:20250506T143524Z
UID:10000033-1749922200-1749929400@www.verdellowy.com
SUMMARY:Al Fresco Italiano
DESCRIPTION:Transport your taste buds to the sun-drenched coasts and vibrant markets of Italy in this seasonal cooking class. We’ll prepare a menu that captures the essence of summer with fresh ingredients\, bold flavors\, and a touch of indulgence. Come ready to chop\, stir\, and savor—la dolce vita awaits. \nMenu: \n\n\n\nWatermelon Basil Caprese Salad\nRoast grape\, balsamic and radicchio pita pizzas\nBroccoli and Chicken Alfredo Lasagna\nLimoncello semifreddo with strawberries\n\n\n\nAge 18+\nHands On Workshop \n 
URL:https://www.verdellowy.com/event/al-fresco-italiano/
LOCATION:Verdello Kitchen\, 23 Grinnell Plaza\, Sheridan\, WY\, 82801\, United States
CATEGORIES:General
ATTACH;FMTTYPE=image/jpeg:https://www.verdellowy.com/wp-content/uploads/2024/09/AdobeStock_439558755-scaled-1.jpeg
END:VEVENT
BEGIN:VEVENT
DTSTART;TZID=America/Denver:20250524T140000
DTEND;TZID=America/Denver:20250524T160000
DTSTAMP:20260424T131140
CREATED:20250403T084743Z
LAST-MODIFIED:20250506T143132Z
UID:10000029-1748095200-1748102400@www.verdellowy.com
SUMMARY:Take Home Gnocchi
DESCRIPTION:Make Your Own Gnocchi: A Delightful Home Cooking Adventure \nGnocchi\, those soft and pillowy Italian dumplings\, are a delightful addition to any dinner table. While they may seem daunting to make from scratch\, with a little guidance\, you can easily whip up a batch in one afternoon. Enjoy this delightful class to create your own homemade gnocchi and impress your family or guests for dinner. \nMenu: \n\nHomemade Gnocchi\n\nAge 18+\nHands On Workshop
URL:https://www.verdellowy.com/event/take-home-gnocchi/
LOCATION:Verdello Kitchen\, 23 Grinnell Plaza\, Sheridan\, WY\, 82801\, United States
CATEGORIES:General
ATTACH;FMTTYPE=image/png:https://www.verdellowy.com/wp-content/uploads/2025/05/Untitled-design-20.png
END:VEVENT
BEGIN:VEVENT
DTSTART;TZID=America/Denver:20250517T100000
DTEND;TZID=America/Denver:20250517T130000
DTSTAMP:20260424T131140
CREATED:20250403T083931Z
LAST-MODIFIED:20250505T213951Z
UID:10000028-1747476000-1747486800@www.verdellowy.com
SUMMARY:Spring Brunch Delight
DESCRIPTION:Join us for a vibrant Spring Brunch\, where delightful flavors and refreshing dishes await to tantalize your taste buds and celebrate the beauty of the season. Our carefully curated menu combines zest\, spice\, and a touch of elegance to create a memorable dining experience. Starting with Lemon Scones\, these sweet and tangy scones are the perfect start to any day. Made with freshly squeezed lemon juice and topped with a lemon glaze\, the zesty flavor is balanced by the nuttiness of slivered almonds. Following with Bloody Mary Shakshuka. Poached eggs in a spicy tomato and red pepper sauce\, vodka and served on crusty bread. Top it with feta\, kalamata olives and cilantro!  \nMenu: \n\nMimosas\nLemon Scones with glaze\nFruit Parfait\nBloody Mary Shakshuka\n\nAge 21+\nHands On Workshop
URL:https://www.verdellowy.com/event/spring-brunch-delight/
LOCATION:Verdello Kitchen\, 23 Grinnell Plaza\, Sheridan\, WY\, 82801\, United States
CATEGORIES:General
ATTACH;FMTTYPE=image/png:https://www.verdellowy.com/wp-content/uploads/2025/05/Untitled-design-18.png
END:VEVENT
BEGIN:VEVENT
DTSTART;TZID=America/Denver:20250503T170000
DTEND;TZID=America/Denver:20250503T200000
DTSTAMP:20260424T131140
CREATED:20250403T081706Z
LAST-MODIFIED:20250403T081706Z
UID:10000025-1746291600-1746302400@www.verdellowy.com
SUMMARY:Sushi Made Easy
DESCRIPTION:Join us for this sushi class where you can learn the art of making Hosomaki (thin\, narrow sushi rolls) and Temaki (hand roll sushi). Whether you’re a seasoned sushi enthusiast or a complete beginner\, this class is perfect for you! \nTo get you in the mood for sushi-making\, we’ll begin with a warm\, comforting bowl of miso soup. This traditional Japanese soup will set the stage for the evening to come\, tantalizing your taste buds and preparing you for the hands-on experience ahead. Bring your appetite for multiple rolls and have fun experimenting with different flavors and combinations. Our class is designed to cover a variety of sushi-making techniques\, ensuring you leave with a new set of skills and a deeper appreciation for this beloved Japanese cuisine. \nMenu: \n\nMiso Soup \nHosomaki\nTemaki \n\nAge 18+\nHands On Workshop
URL:https://www.verdellowy.com/event/sushi-made-easy/
LOCATION:Verdello Kitchen\, 23 Grinnell Plaza\, Sheridan\, WY\, 82801\, United States
CATEGORIES:General
ATTACH;FMTTYPE=image/png:https://www.verdellowy.com/wp-content/uploads/2025/05/Untitled-design-15.png
END:VEVENT
BEGIN:VEVENT
DTSTART;TZID=America/Denver:20241122T170000
DTEND;TZID=America/Denver:20241122T200000
DTSTAMP:20260424T131140
CREATED:20241003T152437Z
LAST-MODIFIED:20241018T132820Z
UID:10000009-1732294800-1732305600@www.verdellowy.com
SUMMARY:Joyful Celebrations
DESCRIPTION:Hands On Workshop \nCome along with Jami as she leads you through this festive workshop. In pairs\, you’ll discover how to create a salad of shaved Brussels sprouts\, a stuffed acorn squash\, and crispy\, crusted chicken. After this class\, you’ll be all set to embrace the holiday spirit! \nMenu: \n\nShaved brussels sprouts\n\nwith warm bacon and warm apples cider dressing \n\nStuffed acorn squash\n\nfilled with cranberry quinoa\, candied walnuts\, and goat cheese crema \n\nCrusted chicken\n\nCoated in pecans and parmesan cheese \n  \nAge 18+ \nHands On Workshop
URL:https://www.verdellowy.com/event/joyful-celebrations/
LOCATION:Verdello Kitchen\, 23 Grinnell Plaza\, Sheridan\, WY\, 82801\, United States
CATEGORIES:General
ATTACH;FMTTYPE=image/jpeg:https://www.verdellowy.com/wp-content/uploads/2024/10/Untitled-design-6.jpg
END:VEVENT
BEGIN:VEVENT
DTSTART;TZID=America/Denver:20241026T173000
DTEND;TZID=America/Denver:20241026T203000
DTSTAMP:20260424T131140
CREATED:20240906T185841Z
LAST-MODIFIED:20241031T111018Z
UID:10000015-1729963800-1729974600@www.verdellowy.com
SUMMARY:Crazy for Curry
DESCRIPTION:Join us for an unforgettable culinary journey that celebrates the diversity and richness of curry cuisine. Whether you’re a seasoned cook or a complete beginner\, this class is designed to cater to all skill levels\, ensuring everyone leaves with new knowledge\, delicious recipes\, and a satisfied appetite. You’ll learn about the essential spices\, the balance of flavors\, and the techniques that make each curry unique. Under the guidance of our expert instructors\, you’ll discover how to create both traditional and modern curry dishes that are sure to impress.  \nMenu: \n\n\n\nTiki Masala (chicken)\nRed Curry\nGreen Curry\nYellow Curry\nMassaman Curry\nJapanese Curry\nTako (coconut pudding) for desert\n\n\n\nAge 18+\nHands On Class
URL:https://www.verdellowy.com/event/crazy-for-curry/
LOCATION:Verdello Kitchen\, 23 Grinnell Plaza\, Sheridan\, WY\, 82801\, United States
CATEGORIES:General
ATTACH;FMTTYPE=image/jpeg:https://www.verdellowy.com/wp-content/uploads/2022/12/AdobeStock_142271660-scaled-1.jpeg
END:VEVENT
END:VCALENDAR